BEGIN:VCALENDAR
VERSION:2.0
PRODID:-//eventon.com NONSGML v1.0//EN
CALSCALE:GREGORIAN
METHOD:PUBLISH
BEGIN:VEVENT
UID:69e75336d386e
DTSTAMP:20260421T103638Z
DTSTART:20260507T040000Z
DTEND:20260518T035900Z
LOCATION:
SUMMARY:Dining Out Culinary Tour - Tuscany & Umbria
DESCRIPTION:Satisfy Your Love of Great Cuisine with the Dining Out Culinary
  Tour Dining Out Culinary Tours along with tourism professionals\,  GT Expe
 riences\,  have curated a special trip to the beautiful Tuscany region of I
 taly geared for those who love food\,  wine\,  culture and fun. Travel with
  a small group of[..]\nhttps://diningoutjersey.com/events/dining-out-culina
 ry-tour-tuscany-umbria/
URL:https://diningoutjersey.com/events/dining-out-culinary-tour-tuscany-umbria/
END:VEVENT
END:VCALENDAR